BEGIN:VCALENDAR
VERSION:2.0
PRODID:-//hacksw/handcal//NONSGML v1.0//EN
BEGIN:VEVENT
SUMMARY:Permanence Livraison Boutique Mardi
UID:60bc2a0d-41d2-4169-a37e-c185e44e0d94
DTSTART:20260421T170000Z
DTEND:20260421T180000Z
LOCATION:FR - Lavernose-Lacasse Basket Salle polyvalente 31410 Lavernose-Lacasse
CATEGORIES:Administratif
STATUS:
DESCRIPTION:<p>Distribution des commandes Boutique</p>
 
 <p>A la salle
 du foyer (salle gouter), entrer par le cote (porte en acier).</p>
URL;VALUE=URI:https://www.fr-lavernose-lacasse-basket.com/evenements/2026/04/21/permanence-livraison-boutique-mardi-2442712
END:VEVENT
END:VCALENDAR
